BEGIN:VCALENDAR
VERSION:2.0
PRODID:-//The Modernist - ECPv6.6.1//NONSGML v1.0//EN
CALSCALE:GREGORIAN
METHOD:PUBLISH
X-WR-CALNAME:The Modernist
X-ORIGINAL-URL:https://www.themodernisthotels.com
X-WR-CALDESC:Events for The Modernist
REFRESH-INTERVAL;VALUE=DURATION:PT1H
X-Robots-Tag:noindex
X-PUBLISHED-TTL:PT1H
BEGIN:VTIMEZONE
TZID:Europe/Athens
BEGIN:DAYLIGHT
TZOFFSETFROM:+0200
TZOFFSETTO:+0300
TZNAME:EEST
DTSTART:20250330T010000
END:DAYLIGHT
BEGIN:STANDARD
TZOFFSETFROM:+0300
TZOFFSETTO:+0200
TZNAME:EET
DTSTART:20251026T010000
END:STANDARD
END:VTIMEZONE
BEGIN:VEVENT
DTSTART;TZID=Europe/Athens:20250306T180000
DTEND;TZID=Europe/Athens:20250306T200000
DTSTAMP:20260420T124110
CREATED:20250417T160540Z
LAST-MODIFIED:20250417T160540Z
UID:52860-1741284000-1741291200@www.themodernisthotels.com
SUMMARY:Rhoeco X The Modernist
DESCRIPTION:Tea lovers\, this one’s for you! Join us for an exclusive Herbal Tea Masterclass guided by the creators of our signature The Modernist Blend\, @rhoeco team at The Modernist Athens. \nDiscover the art of organic herbal infusions\, learn\, taste and even craft your own custom blend! \nMasterclass Description \nAn immersive experience in the world of herbal infusions. This masterclass explores the elements\, benefits and ideal preparation methods of herbal teas\, helping you fully appreciate their flavors and qualities. \nThrough a guided tasting of carefully selected blends\, you will refine your sensory skills and discover the variations of different herbal compositions. \nAt the end of the session\, you will craft your own custom herbal tea blend to take home\, along with a special gift bag featuring a sample of The Modernist blend! \nDetails: \n📆 Date: Thursday\, March 6\n⏰ Time: 19:00 – 21:00\n🎫 Ticket: 20€
URL:https://www.themodernisthotels.com/event/rhoeco-x-the-modernist/
LOCATION:The Modernsit Athens\, 4 I.Gennadiou str.\, Athens\, 11521\, Greece
CATEGORIES:The Modernist Athens
ATTACH;FMTTYPE=image/jpeg:https://www.themodernisthotels.com/wp-content/uploads/2025/04/rhoecoxthemodernist.jpg
ORGANIZER;CN="The Modernist":MAILTO:events@themodernisthotels.com
END:VEVENT
BEGIN:VEVENT
DTSTART;TZID=Europe/Athens:20250314T190000
DTEND;TZID=Europe/Athens:20250314T220000
DTSTAMP:20260420T124110
CREATED:20250417T155416Z
LAST-MODIFIED:20250417T160710Z
UID:52855-1741978800-1741989600@www.themodernisthotels.com
SUMMARY:Dimitris Ntokos | Art Wall Reveal
DESCRIPTION:The Modernist Athens presents a special artwork reveal by artist Dimitris Ntokos @ntokosdimitris at The Modernist Athens. \nJoin us this Friday\, March 14\, from 19:00 to 22:00\, for the unveiling of Dimitris Ntokos’ transcendent art piece on our Art Wall! \nDimitris Ntokos (b. 1984) is an Athens-based artist who graduated from the Department of Graphic and Architectural Design\, where he worked for six\nconsecutive years. Since 2011\, he has showcased his work in solo and group exhibitions worldwide.
URL:https://www.themodernisthotels.com/event/art-wall-reveal-dimitris-ntokos/
LOCATION:The Modernsit Athens\, 4 I.Gennadiou str.\, Athens\, 11521\, Greece
CATEGORIES:The Modernist Athens
ATTACH;FMTTYPE=image/jpeg:https://www.themodernisthotels.com/wp-content/uploads/2025/04/Dimitris_Ntokos.jpg
ORGANIZER;CN="The Modernist":MAILTO:events@themodernisthotels.com
END:VEVENT
END:VCALENDAR