BEGIN:VCALENDAR
VERSION:2.0
PRODID:-//The Modernist - ECPv6.6.1//NONSGML v1.0//EN
CALSCALE:GREGORIAN
METHOD:PUBLISH
X-ORIGINAL-URL:https://www.themodernisthotels.com
X-WR-CALDESC:Events for The Modernist
REFRESH-INTERVAL;VALUE=DURATION:PT1H
X-Robots-Tag:noindex
X-PUBLISHED-TTL:PT1H
BEGIN:VTIMEZONE
TZID:Europe/Athens
BEGIN:DAYLIGHT
TZOFFSETFROM:+0200
TZOFFSETTO:+0300
TZNAME:EEST
DTSTART:20240331T010000
END:DAYLIGHT
BEGIN:STANDARD
TZOFFSETFROM:+0300
TZOFFSETTO:+0200
TZNAME:EET
DTSTART:20241027T010000
END:STANDARD
END:VTIMEZONE
BEGIN:VEVENT
DTSTART;TZID=Europe/Athens:20241018T190000
DTEND;TZID=Europe/Athens:20241206T190000
DTSTAMP:20260420T183913
CREATED:20241113T125214Z
LAST-MODIFIED:20241129T124600Z
UID:48875-1729278000-1733511600@www.themodernisthotels.com
SUMMARY:“E75" by Joseph Alexiadis
DESCRIPTION:The Modernist Athens presents “E75\,” the first solo exhibition by photographer Joseph Alexiadis @josephalexiadis\n\nAn immersive visual journey along the E75 highway\, the iconic route connecting Athens and Thessaloniki.\nThrough his lens\, Alexiadis captures the essence of contemporary Greek identity\, blending striking geometric compositions with the subtle interplay of natural light.\n\nDuration: October 18 – December 6\, 2024\nOpening Night: Friday\, October 18\, at 19:00
URL:https://www.themodernisthotels.com/event/e75-joseph-alexiadis/
CATEGORIES:The Modernist Athens
ATTACH;FMTTYPE=image/jpeg:https://www.themodernisthotels.com/wp-content/uploads/2024/11/DSC7257.jpg
ORGANIZER;CN="The Modernist":MAILTO:events@themodernisthotels.com
END:VEVENT
BEGIN:VEVENT
DTSTART;TZID=Europe/Athens:20241206T190000
DTEND;TZID=Europe/Athens:20241206T220000
DTSTAMP:20260420T183913
CREATED:20240820T124153Z
LAST-MODIFIED:20241129T124600Z
UID:45793-1733511600-1733522400@www.themodernisthotels.com
SUMMARY:Vino & Vinyl
DESCRIPTION:Join us on Friday\, December 6th\, from 19:00 to 22:00 at The Modernist Athens Café for the second session of our Vino & Vinyl afterwork series of events featuring curated vinyl records and signature wines. \nExperience a listening journey through a curated selection of vinyl records\, inspired by the transcendent Jazz Kissa and brought to you by @marios_visvikis \, perfectly paired with our Modernist red\, white\, and rosé. \nJazz Kissa\, unique to Japan\, are cafés dedicated to the appreciation of recorded jazz music. They offer an intimate atmosphere where patrons can engage in focused listening experiences. \nWe look forward to sharing this unique listening session with you. \n\n\n\n\n\n\n\n\n\nDate: December 6\, 2024\nTime: 19:00–22:00\nLocation: The Modernist Athens Café
URL:https://www.themodernisthotels.com/event/vino-vinyl/
CATEGORIES:The Modernist Athens
ATTACH;FMTTYPE=image/jpeg:https://www.themodernisthotels.com/wp-content/uploads/2024/08/isaac-smith-0oeuhbmi9TY-unsplashb.jpg
ORGANIZER;CN="The Modernist":MAILTO:events@themodernisthotels.com
END:VEVENT
END:VCALENDAR