BEGIN:VCALENDAR
VERSION:2.0
PRODID:-//The Modernist - ECPv6.6.1//NONSGML v1.0//EN
CALSCALE:GREGORIAN
METHOD:PUBLISH
X-WR-CALNAME:The Modernist
X-ORIGINAL-URL:https://www.themodernisthotels.com
X-WR-CALDESC:Events for The Modernist
REFRESH-INTERVAL;VALUE=DURATION:PT1H
X-Robots-Tag:noindex
X-PUBLISHED-TTL:PT1H
BEGIN:VTIMEZONE
TZID:Europe/Athens
BEGIN:DAYLIGHT
TZOFFSETFROM:+0200
TZOFFSETTO:+0300
TZNAME:EEST
DTSTART:20240331T010000
END:DAYLIGHT
BEGIN:STANDARD
TZOFFSETFROM:+0300
TZOFFSETTO:+0200
TZNAME:EET
DTSTART:20241027T010000
END:STANDARD
END:VTIMEZONE
BEGIN:VEVENT
DTSTART;TZID=Europe/Athens:20241224T170000
DTEND;TZID=Europe/Athens:20241224T190000
DTSTAMP:20260420T183631
CREATED:20240820T130609Z
LAST-MODIFIED:20250411T114116Z
UID:45801-1735059600-1735066800@www.themodernisthotels.com
SUMMARY:Christmas Cookies Workshop
DESCRIPTION:Join us at The Modernist Athens and The Modernist Thessaloniki on Saturday\, December 14th\, for a fun-filled\, hands-on workshop where little bakers will roll\, bake\, and decorate their very own Christmas cookies! \nWith sprinkles flying and holiday vibes in the air\, it’s the sweetest way to dive into the Christmas spirit. \nDon’t miss out—it’s going to be merry\, magical\, and oh-so-delicious! \nRegister in the link in bio\, join us with your children and be part of the festive fun! \n📢 Advance booking is highly recommended | Limited number of participants.\nCost: 10€ per person \nThe Modernist Athens:\nSaturday 14 December\, 17:00 – 19:00\nTelephone Registrations ☎️ 216 000 2130 \nThe Modernist Thessaloniki:\nSaturday 14 December\, 17:00 – 19:00\nTelephone Registrations ☎️ 2316 009 990
URL:https://www.themodernisthotels.com/event/christmas-cookies-workshop/
CATEGORIES:The Modernist Athens
ATTACH;FMTTYPE=image/jpeg:https://www.themodernisthotels.com/wp-content/uploads/2024/08/coockies-1.jpg
ORGANIZER;CN="The Modernist":MAILTO:events@themodernisthotels.com
END:VEVENT
END:VCALENDAR