BEGIN:VCALENDAR
VERSION:2.0
PRODID:-//The Modernist - ECPv6.6.1//NONSGML v1.0//EN
CALSCALE:GREGORIAN
METHOD:PUBLISH
X-ORIGINAL-URL:https://www.themodernisthotels.com
X-WR-CALDESC:Events for The Modernist
REFRESH-INTERVAL;VALUE=DURATION:PT1H
X-Robots-Tag:noindex
X-PUBLISHED-TTL:PT1H
BEGIN:VTIMEZONE
TZID:Europe/Athens
BEGIN:DAYLIGHT
TZOFFSETFROM:+0200
TZOFFSETTO:+0300
TZNAME:EEST
DTSTART:20250330T010000
END:DAYLIGHT
BEGIN:STANDARD
TZOFFSETFROM:+0300
TZOFFSETTO:+0200
TZNAME:EET
DTSTART:20251026T010000
END:STANDARD
END:VTIMEZONE
BEGIN:VEVENT
DTSTART;TZID=Europe/Athens:20250628T080000
DTEND;TZID=Europe/Athens:20250628T090000
DTSTAMP:20260420T231829
CREATED:20250619T063240Z
LAST-MODIFIED:20250619T063241Z
UID:53415-1751097600-1751101200@www.themodernisthotels.com
SUMMARY:Morning Rituals | Mindful Flow with Inner Hive Studio
DESCRIPTION:Saturday: Mindful Flow with Inner Hive Studio \nEmbrace the weekend with a serene Mindful Flow from Inner Hive Studio. A perfect blend of movement and stillness to start your Saturday with clarity. \nRooftop | 08:00\nPost-class protein smoothie by @AminoAnimo\nMats provided | All levels welcome
URL:https://www.themodernisthotels.com/event/morning-rituals-mindful-flow-with-inner-hive-studio/
LOCATION:The Modernsit Athens\, 4 I.Gennadiou str.\, Athens\, 11521\, Greece
CATEGORIES:The Modernist Athens
ATTACH;FMTTYPE=image/png:https://www.themodernisthotels.com/wp-content/uploads/2025/06/Screenshot-by-Snip-My-on-19-Jun-2025-at-09.15.13.png
END:VEVENT
BEGIN:VEVENT
DTSTART;TZID=Europe/Athens:20250630T080000
DTEND;TZID=Europe/Athens:20250630T090000
DTSTAMP:20260420T231829
CREATED:20250619T065947Z
LAST-MODIFIED:20250703T101056Z
UID:53417-1751270400-1751274000@www.themodernisthotels.com
SUMMARY:Morning Rituals | Hatha Yoga with Olga Siouti
DESCRIPTION:Monday: Hatha Yoga with Olga Siouti \nEase into the week with Olga Siouti’s grounding Hatha Yoga session. Find strength and calm through classic poses and mindful breathing under the morning Athenian sky. \nRooftop | 08:00\nPost-class protein smoothie by @AminoAnimo\nMats provided | All levels welcome
URL:https://www.themodernisthotels.com/event/morning-rituals-hatha-yoga-with-olga-siouti-2/
LOCATION:The Modernist Athens\, Ioannou Gennadiou 4\, Athens\, Greece 11521\, Greece
CATEGORIES:The Modernist Athens
END:VEVENT
BEGIN:VEVENT
DTSTART;TZID=Europe/Athens:20250704T200000
DTEND;TZID=Europe/Athens:20250704T200000
DTSTAMP:20260420T231829
CREATED:20250702T091322Z
LAST-MODIFIED:20250702T091450Z
UID:53517-1751659200-1751659200@www.themodernisthotels.com
SUMMARY:1818 | The Night Shift | DJ Set by Dimitri Papaioannou
DESCRIPTION:Kick off your weekend with The Night Shift\, every Friday night at 1818\, upstairs at The Modernist Athens. Expect a fresh soundtrack each week with Athens’ finest local DJs take over the decks spinning tunes from chill vibes perfect for conversation to energetic beats that get you moving! \nThis week\, enjoy a set from Dimitri Papaioannou\, a storyteller through sound and space\, he’s made his mark as an artistic director\, programmer\, DJ\, and cultural instigator. For nearly two decades\, Dimitris Papaioannou has been a creative force in the music and cultural landscape of Greece and beyond\, weaving unforgettable experiences that defy convention.\n \nHis journey includes co-founding Synch Festival\, a game-changer in the Greek festival scene that was crowned Best European Festival at the 2006 Qwartz Awards in Paris. He’s also shaped large-scale narratives\, like his work with Eleusis 2023 – European Capital of Culture\, blending local history with a global artistic vision. \nOn the e-waves\, Dimitris is a master curator. His radio show\, “Method To The Madness” on Stegi.radio\, now in its fifth year\, is an unpredictable ride through genres\, moods\, and stories. It’s not just radio—it’s a musical manifesto for freedom and discovery. This ethos echoes his DJ career\, which spans over 30 years and continents\, always with one guiding principle: “Expect the unexpected.”\nDimitris’ latest passion project\, Ikaria State of Mind\, continues his legacy of pushing the envelope—a celebration of slow rhythms\, island life\, and boundless creativity. \nSip on expertly curated cocktails crafted by Nikos Bakoulis and our friends at Line Athens\, paired with delicious bites to keep you fueled all night long!
URL:https://www.themodernisthotels.com/event/1818-the-night-shift-dj-set-by-dimitri-papaioannou/
CATEGORIES:The Modernist Athens
ATTACH;FMTTYPE=image/jpeg:https://www.themodernisthotels.com/wp-content/uploads/2025/07/04.07-WEBSITE.jpg
END:VEVENT
BEGIN:VEVENT
DTSTART;TZID=Europe/Athens:20250705T200000
DTEND;TZID=Europe/Athens:20250705T200000
DTSTAMP:20260420T231829
CREATED:20250702T092414Z
LAST-MODIFIED:20250702T093108Z
UID:53521-1751745600-1751745600@www.themodernisthotels.com
SUMMARY:1818 | Intimate Sessions with Time Flies & DJ Set with Hardpan and Dezmos
DESCRIPTION:TIME FLIES PRESENTS THE INTIMATE SESSIONS \nWe’re back — and more elevated than ever. \nJoin us for an exclusive\, invite-only DJ set as TIME FLIES returns with THE INTIMATE SESSIONS\, taking over the rooftop at 1818 bar. \nExpect curated soundscapes\, sunset views\, and a night designed for those who know.
URL:https://www.themodernisthotels.com/event/1818-intimate-sessions-with-time-flies-and-dj-set-with-hardpan-and-dezmos/
CATEGORIES:The Modernist Athens
ATTACH;FMTTYPE=image/jpeg:https://www.themodernisthotels.com/wp-content/uploads/2025/07/05.07-WEBSITE.jpg
END:VEVENT
BEGIN:VEVENT
DTSTART;TZID=Europe/Athens:20250710T180000
DTEND;TZID=Europe/Athens:20250710T233000
DTSTAMP:20260420T231829
CREATED:20250702T100333Z
LAST-MODIFIED:20250703T100049Z
UID:53539-1752170400-1752190200@www.themodernisthotels.com
SUMMARY:M2P Project Launch at 1818\, Pop-up at the Café and Workshop
DESCRIPTION:M2P X THE MODERNIST \nOn Thursday\, July 10\, 2025\, the team behind M2P will take over The Modernist for a full 24 hours of immersive design\, interaction\, and artistic expression blending tactile creativity. \nHere’s what to expect: \nREPURPOSE—A Lobby Installation (July 10–11)\nA curated intervention in the hotel’s ground floor space\, featuring signature M2P objects\, from fabric vases and pots\, to souplats\, subtly reimagining the public spaces and The Modernist Café interior with their distinctive folk aesthetic. \nFAN OUT ANIMALS—Hands-On Fan-Making Workshop (18:00–20:00)\nGuests are invited to join us in a creative workshop where they’ll design their own custom fan using exclusive M2P patterns\, stamps\, and stickers in collaboration with Perrakis Papers. Each participant receives a pre-cut fan shape and materials to create a personal souvenir to take home. \nANIMAL—Project Launch at 1818 (20:00–00:00)\nWe proudly unveil ANIMAL\, our new capsule collection in collaboration with designer Panos Angelopoulos\, featuring summer staples like paddle sets\, shirts\, bags\, and bandanas adorned with our latest print. Set against the Athens skyline\, this rooftop gathering will bring together our close community of friends and collaborators. \nOpen and free to all.
URL:https://www.themodernisthotels.com/event/m2p-project-launch-at-1818-pop-up-at-the-cafe-and-workshop/
LOCATION:The Modernist Athens\, Ioannou Gennadiou 4\, Athens\, Greece 11521\, Greece
CATEGORIES:The Modernist Athens
ATTACH;FMTTYPE=image/jpeg:https://www.themodernisthotels.com/wp-content/uploads/2025/07/zoo1.jpg
END:VEVENT
BEGIN:VEVENT
DTSTART;TZID=Europe/Athens:20250711T200000
DTEND;TZID=Europe/Athens:20250711T200000
DTSTAMP:20260420T231829
CREATED:20250702T093641Z
LAST-MODIFIED:20250702T093641Z
UID:53526-1752264000-1752264000@www.themodernisthotels.com
SUMMARY:1818 | The Night Shift | DJ Set by Black Athena
DESCRIPTION:Kick off your weekend with The Night Shift\, every Friday night at 1818\, upstairs at The Modernist Athens. Expect a fresh soundtrack each week with Athens’ finest local DJs take over the decks spinning tunes from chill vibes perfect for conversation to energetic beats that get you moving! \nBlack Athena are a DJ duo\, a radio show and more recently a record label\, conceived in and around the centre of Athens during the first decade of the millennium. The Black Athena philosophy is as much about the local as it is about the global. In an underground music field that increasingly is about A&Ring music directly from the internet and creating labels spearheaded by artists already accepted as “cool”\, Black Athena is all about having a personal ‘real’ connection with the artists\, helping develop them and putting them on a global stage. In a country that has been plagued by uncertainty and financial instability\, Black Athena believe that it is paramount to put young people at the forefront and help them succeed through their creativity and love for music. \nSip on expertly curated cocktails crafted by Nikos Bakoulis and our friends at Line Athens\, paired with delicious bites to keep you fueled all night long!
URL:https://www.themodernisthotels.com/event/1818-the-night-shift-dj-set-by-black-athena/
LOCATION:The Modernist Athens\, Ioannou Gennadiou 4\, Athens\, Greece 11521\, Greece
CATEGORIES:The Modernist Athens
ATTACH;FMTTYPE=image/jpeg:https://www.themodernisthotels.com/wp-content/uploads/2025/07/11.07-WEBSITE.jpg
END:VEVENT
BEGIN:VEVENT
DTSTART;TZID=Europe/Athens:20250718T200000
DTEND;TZID=Europe/Athens:20250718T200000
DTSTAMP:20260420T231829
CREATED:20250702T094426Z
LAST-MODIFIED:20250718T080434Z
UID:53535-1752868800-1752868800@www.themodernisthotels.com
SUMMARY:1818 | The Night Shift | DJ Set by Christina Kratimenou
DESCRIPTION:Kick off your weekend with The Night Shift\, every Friday night at 1818\, upstairs at The Modernist Athens. Expect a fresh soundtrack each week with Athens’ finest local DJs take over the decks spinning tunes from chill vibes perfect for conversation to energetic beats that get you moving! \nChristina Kratimenou\, a genre-diverse DJ splitting time between Athens and Patras. She spent three years producing for her college radio show\, honing her taste and mixing techniques.\nAs a resident DJ around Patras and Athens\, she blends cosmic disco\, Eastern‑tinged grooves\, synth‑pop\, global funk and eclectic electronic sounds into warm\, danceable journeys full of good vibes and tracks that stick in your head long after the night ends. \nSip on expertly curated cocktails crafted by Nikos Bakoulis and our friends at Line Athens\, paired with delicious bites to keep you fueled all night long!
URL:https://www.themodernisthotels.com/event/1818-the-night-shift-dj-set-by-christina-kratimenou/
CATEGORIES:The Modernist Athens
ATTACH;FMTTYPE=image/jpeg:https://www.themodernisthotels.com/wp-content/uploads/2025/07/56A7261.jpg
END:VEVENT
BEGIN:VEVENT
DTSTART;TZID=Europe/Athens:20250725T200000
DTEND;TZID=Europe/Athens:20250725T200000
DTSTAMP:20260420T231829
CREATED:20250702T094049Z
LAST-MODIFIED:20250718T075300Z
UID:53531-1753473600-1753473600@www.themodernisthotels.com
SUMMARY:1818 | The Night Shift | DJ Set by Panos Dimitropoulos
DESCRIPTION:Kick off your weekend with The Night Shift\, every Friday night at 1818\, upstairs at The Modernist Athens. Expect a fresh soundtrack each week with Athens’ finest local DJs take over the decks spinning tunes from chill vibes perfect for conversation to energetic beats that get you moving! \nPanos Dimitropoulos is the frontman of the acclaimed psychedelic rock band The Steams and a distinguished DJ with a unique musical identity. As a resident DJ at some of Athens’s most notable venues\, including Pharaoh\, Birdman\, and Gallina\, he has also brought his eclectic sets to gallery openings\, private events\, and bars across cities like Athens\, Paris\, Berlin\, and Chicago. \nPanos’s sound blends psych funk\, 70s-80s disco\, Anatolian groove\, and Greek 60s\, crafting an immersive experience that transcends borders and eras. His sets are known for their surprising connections and genre-spanning energy\, taking listeners on a sonic journey that feels both nostalgic and refreshingly contemporary. \nSip on expertly curated cocktails crafted by Nikos Bakoulis and our friends at Line Athens\, paired with delicious bites to keep you fueled all night long!
URL:https://www.themodernisthotels.com/event/1818-the-night-shift-dj-set-by-panos-dimitropoulos/
LOCATION:The Modernist Athens\, Ioannou Gennadiou 4\, Athens\, Greece 11521\, Greece
CATEGORIES:The Modernist Athens
ATTACH;FMTTYPE=image/png:https://www.themodernisthotels.com/wp-content/uploads/2025/07/Screenshot-by-Snip-My-on-18-Jul-2025-at-10.52.07.png
END:VEVENT
BEGIN:VEVENT
DTSTART;TZID=Europe/Athens:20250905T200000
DTEND;TZID=Europe/Athens:20250905T200000
DTSTAMP:20260420T231829
CREATED:20250903T120836Z
LAST-MODIFIED:20250903T120836Z
UID:53956-1757102400-1757102400@www.themodernisthotels.com
SUMMARY:1818 | The Night Shift | DJ Set by MR. Z
DESCRIPTION:Kick off your weekend with The Night Shift at 1818\, upstairs at The Modernist Athens. Expect a fresh soundtrack each week with Athens’ finest local DJs take over the decks spinning tunes from chill vibes perfect for conversation to energetic beats that get you moving! \nZois Chalkiopoulos aka Mr. Z lives in Athens\, where he was named by magazine Athens Voice as best DJ for 2012. He is one of the favorite selectors in the best bars in town\, an active member of Needless mobile party and founder of the vinyl bazaar series\, ΜΠΙΤ ΜΠΑΖΑΑΡ. \nIn addition\, he shares his musical wisdom through the blog Naked Sides and his famous monthly column and podcasts on Avopolis and Stegi Radio. He has released 2 personal albums and an EP in vinyl\, cassette\, and digital form. \nSip on expertly curated cocktails crafted by Nikos Bakoulis and our friends at Line Athens\, paired with delicious bites to keep you fueled all night long!
URL:https://www.themodernisthotels.com/event/1818-the-night-shift-dj-set-by-mr-z/
LOCATION:The Modernsit Athens\, 4 I.Gennadiou str.\, Athens\, 11521\, Greece
CATEGORIES:The Modernist Athens
ATTACH;FMTTYPE=image/png:https://www.themodernisthotels.com/wp-content/uploads/2025/07/Screenshot-by-Snip-My-on-18-Jul-2025-at-10.52.07.png
END:VEVENT
BEGIN:VEVENT
DTSTART;TZID=Europe/Athens:20250906T200000
DTEND;TZID=Europe/Athens:20250906T200000
DTSTAMP:20260420T231829
CREATED:20250903T121420Z
LAST-MODIFIED:20250903T121420Z
UID:53959-1757188800-1757188800@www.themodernisthotels.com
SUMMARY:1818 | The Night Shift | DJ Set by Black Athena
DESCRIPTION:Kick off your weekend with The Night Shift at 1818\, upstairs at The Modernist Athens. Expect a fresh soundtrack each week with Athens’ finest local DJs take over the decks spinning tunes from chill vibes perfect for conversation to energetic beats that get you moving! \nOnline\, in print\, on air\, and at the decks\, Black Athena specialize in bringing the upfront outergalactic funk\, futuristic soul\, floating beats\, abstract hip-hop\, vintage boogie\, bass business\, and more joyful noise! \nWhether it’s at their own concept nights (Cloud City)\, their twice weekly FM broadcasts (Athens International Radio)\, or their contribution to friends and family’s efforts in the Greek capital\, the duo can be relied upon to bring their eclectic fusion to the mix. \nSip on expertly curated cocktails crafted by Nikos Bakoulis and our friends at Line Athens\, paired with delicious bites to keep you fueled all night long!
URL:https://www.themodernisthotels.com/event/1818-the-night-shift-dj-set-by-black-athena-2/
LOCATION:The Modernist Athens\, Ioannou Gennadiou 4\, Athens\, Greece 11521\, Greece
CATEGORIES:The Modernist Athens
END:VEVENT
BEGIN:VEVENT
DTSTART;TZID=Europe/Athens:20250910T200000
DTEND;TZID=Europe/Athens:20250910T200000
DTSTAMP:20260420T231829
CREATED:20250903T122038Z
LAST-MODIFIED:20250903T122038Z
UID:53961-1757534400-1757534400@www.themodernisthotels.com
SUMMARY:1818 | The Night Shift | DJ Set by Panos Dimitropoulos
DESCRIPTION:Kick off your weekend with The Night Shift\, every Friday night at 1818\, upstairs at The Modernist Athens. Expect a fresh soundtrack each week with Athens’ finest local DJs take over the decks spinning tunes from chill vibes perfect for conversation to energetic beats that get you moving! \nPanos Dimitropoulos is the frontman of the acclaimed psychedelic rock band The Steams and a distinguished DJ with a unique musical identity. As a resident DJ at some of Athens’s most notable venues\, including Pharaoh\, Birdman\, and Gallina\, he has also brought his eclectic sets to gallery openings\, private events\, and bars across cities like Athens\, Paris\, Berlin\, and Chicago. \nPanos’s sound blends psych funk\, 70s-80s disco\, Anatolian groove\, and Greek 60s\, crafting an immersive experience that transcends borders and eras. His sets are known for their surprising connections and genre-spanning energy\, taking listeners on a sonic journey that feels both nostalgic and refreshingly contemporary. \nSip on expertly curated cocktails crafted by Nikos Bakoulis and our friends at Line Athens\, paired with delicious bites to keep you fueled all night long!
URL:https://www.themodernisthotels.com/event/1818-the-night-shift-dj-set-by-panos-dimitropoulos-2/
LOCATION:The Modernsit Athens\, 4 I.Gennadiou str.\, Athens\, 11521\, Greece
CATEGORIES:The Modernist Athens
ATTACH;FMTTYPE=image/jpeg:https://www.themodernisthotels.com/wp-content/uploads/2025/07/56A7390.jpg
END:VEVENT
BEGIN:VEVENT
DTSTART;TZID=Europe/Athens:20250913T170000
DTEND;TZID=Europe/Athens:20250913T170000
DTSTAMP:20260420T231829
CREATED:20250903T124025Z
LAST-MODIFIED:20250903T124025Z
UID:53973-1757782800-1757782800@www.themodernisthotels.com
SUMMARY:Modernist Café | Wax Carving Jewelry Workshop with Virginia Tzioti
DESCRIPTION:An afternoon of making\, shaping\, and slowing down at The Modernist Café. In September 13\, join us with Virginia Tzioti for a Wax Carving Jewelry Workshop and learn a new skill where you’ll sketch\, carve\, and shape your own design in wax—the very first step in creating a piece of jewelry that can later be cast in silver\, turning your idea into something timeless.\n \n\n\nTo pair with the craft\, enjoy a complimentary cocktail from upstairs at 1818 Bar\, selected from the menu we curated with our friends at LINE Bar.\n\n\n \nAbout Virginia Tzioti\nLondon-based designer Virginia Tzioti creates jewelry where ancient Greek heritage meets contemporary form.Trained as a handmade jewelry technician and later in sculpture\, Virginia draws inspiration from raw materials and classical forms\, shaping them into modern pieces with timeless character. Each creation is carefully crafted by hand\, carrying both symbolism and a sense of evolution\, where tradition meets today.
URL:https://www.themodernisthotels.com/event/modernist-cafe-wax-carving-jewelry-workshop-with-virginia-tzioti/
LOCATION:The Modernist Athens\, Ioannou Gennadiou 4\, Athens\, Greece 11521\, Greece
CATEGORIES:The Modernist Athens
ATTACH;FMTTYPE=image/jpeg:https://www.themodernisthotels.com/wp-content/uploads/2025/09/IMG_1CD847D2C86A-1.jpeg
END:VEVENT
BEGIN:VEVENT
DTSTART;TZID=Europe/Athens:20250913T200000
DTEND;TZID=Europe/Athens:20250913T200000
DTSTAMP:20260420T231829
CREATED:20250903T122355Z
LAST-MODIFIED:20250903T122355Z
UID:53963-1757793600-1757793600@www.themodernisthotels.com
SUMMARY:1818 | The Night Shift | DJ Set by Black Athena
DESCRIPTION:Kick off your weekend with The Night Shift at 1818\, upstairs at The Modernist Athens. Expect a fresh soundtrack each week with Athens’ finest local DJs take over the decks spinning tunes from chill vibes perfect for conversation to energetic beats that get you moving! \nOnline\, in print\, on air\, and at the decks\, Black Athena specialize in bringing the upfront outergalactic funk\, futuristic soul\, floating beats\, abstract hip-hop\, vintage boogie\, bass business\, and more joyful noise! \nWhether it’s at their own concept nights (Cloud City)\, their twice weekly FM broadcasts (Athens International Radio)\, or their contribution to friends and family’s efforts in the Greek capital\, the duo can be relied upon to bring their eclectic fusion to the mix. \nSip on expertly curated cocktails crafted by Nikos Bakoulis and our friends at Line Athens\, paired with delicious bites to keep you fueled all night long!
URL:https://www.themodernisthotels.com/event/1818-the-night-shift-dj-set-by-black-athena-3/
LOCATION:The Modernist Athens\, Ioannou Gennadiou 4\, Athens\, Greece 11521\, Greece
CATEGORIES:The Modernist Athens
ATTACH;FMTTYPE=image/png:https://www.themodernisthotels.com/wp-content/uploads/2025/07/Screenshot-by-Snip-My-on-18-Jul-2025-at-10.52.07.png
END:VEVENT
BEGIN:VEVENT
DTSTART;TZID=Europe/Athens:20250919T200000
DTEND;TZID=Europe/Athens:20250919T200000
DTSTAMP:20260420T231829
CREATED:20250903T122716Z
LAST-MODIFIED:20250903T122716Z
UID:53965-1758312000-1758312000@www.themodernisthotels.com
SUMMARY:1818 | The Night Shift | DJ Set by Chevy
DESCRIPTION:Kick off your weekend with The Night Shift\, every Friday night at 1818\, upstairs at The Modernist Athens. Expect a fresh soundtrack each week with Athens’ finest local DJs take over the decks spinning tunes from chill vibes perfect for conversation to energetic beats that get you moving! \nVassilis Sevdalis\, widely known as Chevy\, is an Athens-based DJ with over two decades of experience. Renowned for his eclectic and boundary-pushing sets\, Chevy combines contemporary disco\, leftfield house and indie-dance\, drawing from the full spectrum of DJ culture to craft his unique sound. He’s collaborated with numerous local talents and shared the stage with prominent international acts across some of Greece’s most iconic venues and festivals. As a resident DJ at several of Athens’s premier music spots\, Chevy continues to be a vital figure in the city’s vibrant music scene. He also hosts a regular radio show on ‘Stegi Radio’ and runs the mobile party ‘Needless’ for over ten years\, bringing unforgettable experiences to diverse locations. In 2022\, alongside his friend and partner Dimitri Papaioannou\, he launched ‘_&Beyond’\, a dynamic platform dedicated to music\, culture\, and events\, further solidifying his impact on the industry. \nSip on expertly curated cocktails crafted by Nikos Bakoulis and our friends at Line Athens\, paired with delicious bites to keep you fueled all night long!
URL:https://www.themodernisthotels.com/event/1818-the-night-shift-dj-set-by-chevy/
LOCATION:The Modernist Athens\, Ioannou Gennadiou 4\, Athens\, Greece 11521\, Greece
CATEGORIES:The Modernist Athens
ATTACH;FMTTYPE=image/jpeg:https://www.themodernisthotels.com/wp-content/uploads/2025/07/56A7390.jpg
END:VEVENT
BEGIN:VEVENT
DTSTART;TZID=Europe/Athens:20250920T200000
DTEND;TZID=Europe/Athens:20250920T200000
DTSTAMP:20260420T231829
CREATED:20250903T123031Z
LAST-MODIFIED:20250903T123031Z
UID:53967-1758398400-1758398400@www.themodernisthotels.com
SUMMARY:1818 | The Night Shift | DJ Set by Black Athena
DESCRIPTION:Kick off your weekend with The Night Shift at 1818\, upstairs at The Modernist Athens. Expect a fresh soundtrack each week with Athens’ finest local DJs take over the decks spinning tunes from chill vibes perfect for conversation to energetic beats that get you moving! \nOnline\, in print\, on air\, and at the decks\, Black Athena specialize in bringing the upfront outergalactic funk\, futuristic soul\, floating beats\, abstract hip-hop\, vintage boogie\, bass business\, and more joyful noise! \nWhether it’s at their own concept nights (Cloud City)\, their twice weekly FM broadcasts (Athens International Radio)\, or their contribution to friends and family’s efforts in the Greek capital\, the duo can be relied upon to bring their eclectic fusion to the mix. \nSip on expertly curated cocktails crafted by Nikos Bakoulis and our friends at Line Athens\, paired with delicious bites to keep you fueled all night long!
URL:https://www.themodernisthotels.com/event/1818-the-night-shift-dj-set-by-black-athena-4/
LOCATION:The Modernist Athens\, Ioannou Gennadiou 4\, Athens\, Greece 11521\, Greece
CATEGORIES:The Modernist Athens
ATTACH;FMTTYPE=image/jpeg:https://www.themodernisthotels.com/wp-content/uploads/2025/07/56A7261.jpg
END:VEVENT
BEGIN:VEVENT
DTSTART;TZID=Europe/Athens:20250924T200000
DTEND;TZID=Europe/Athens:20250924T200000
DTSTAMP:20260420T231829
CREATED:20250903T123314Z
LAST-MODIFIED:20250903T123314Z
UID:53969-1758744000-1758744000@www.themodernisthotels.com
SUMMARY:1818 | The Night Shift | DJ Set by Panos Dimitropoulos
DESCRIPTION:Kick off your weekend with The Night Shift\, every Friday night at 1818\, upstairs at The Modernist Athens. Expect a fresh soundtrack each week with Athens’ finest local DJs take over the decks spinning tunes from chill vibes perfect for conversation to energetic beats that get you moving! \nPanos Dimitropoulos is the frontman of the acclaimed psychedelic rock band The Steams and a distinguished DJ with a unique musical identity. As a resident DJ at some of Athens’s most notable venues\, including Pharaoh\, Birdman\, and Gallina\, he has also brought his eclectic sets to gallery openings\, private events\, and bars across cities like Athens\, Paris\, Berlin\, and Chicago. \nPanos’s sound blends psych funk\, 70s-80s disco\, Anatolian groove\, and Greek 60s\, crafting an immersive experience that transcends borders and eras. His sets are known for their surprising connections and genre-spanning energy\, taking listeners on a sonic journey that feels both nostalgic and refreshingly contemporary. \nSip on expertly curated cocktails crafted by Nikos Bakoulis and our friends at Line Athens\, paired with delicious bites to keep you fueled all night long!
URL:https://www.themodernisthotels.com/event/1818-the-night-shift-dj-set-by-panos-dimitropoulos-3/
LOCATION:The Modernsit Athens\, 4 I.Gennadiou str.\, Athens\, 11521\, Greece
CATEGORIES:The Modernist Athens
ATTACH;FMTTYPE=image/png:https://www.themodernisthotels.com/wp-content/uploads/2025/07/Screenshot-by-Snip-My-on-18-Jul-2025-at-10.52.07.png
END:VEVENT
BEGIN:VEVENT
DTSTART;TZID=Europe/Athens:20250927T200000
DTEND;TZID=Europe/Athens:20250927T200000
DTSTAMP:20260420T231829
CREATED:20250903T123504Z
LAST-MODIFIED:20250903T123504Z
UID:53971-1759003200-1759003200@www.themodernisthotels.com
SUMMARY:1818 | The Night Shift | DJ Set by Black Athena
DESCRIPTION:Kick off your weekend with The Night Shift at 1818\, upstairs at The Modernist Athens. Expect a fresh soundtrack each week with Athens’ finest local DJs take over the decks spinning tunes from chill vibes perfect for conversation to energetic beats that get you moving! \nOnline\, in print\, on air\, and at the decks\, Black Athena specialize in bringing the upfront outergalactic funk\, futuristic soul\, floating beats\, abstract hip-hop\, vintage boogie\, bass business\, and more joyful noise! \nWhether it’s at their own concept nights (Cloud City)\, their twice weekly FM broadcasts (Athens International Radio)\, or their contribution to friends and family’s efforts in the Greek capital\, the duo can be relied upon to bring their eclectic fusion to the mix. \nSip on expertly curated cocktails crafted by Nikos Bakoulis and our friends at Line Athens\, paired with delicious bites to keep you fueled all night long!
URL:https://www.themodernisthotels.com/event/1818-the-night-shift-dj-set-by-black-athena-5/
LOCATION:The Modernist Athens\, Ioannou Gennadiou 4\, Athens\, Greece 11521\, Greece
CATEGORIES:The Modernist Athens
END:VEVENT
END:VCALENDAR